BEGIN:VCALENDAR
VERSION:2.0
PRODID:-// - ECPv6.13.2.1//NONSGML v1.0//EN
CALSCALE:GREGORIAN
METHOD:PUBLISH
X-ORIGINAL-URL:http://rockawayrevolution.com
X-WR-CALDESC:Events for 
REFRESH-INTERVAL;VALUE=DURATION:PT1H
X-Robots-Tag:noindex
X-PUBLISHED-TTL:PT1H
BEGIN:VTIMEZONE
TZID:UTC
BEGIN:STANDARD
TZOFFSETFROM:+0000
TZOFFSETTO:+0000
TZNAME:UTC
DTSTART:20180101T000000
END:STANDARD
END:VTIMEZONE
BEGIN:VEVENT
DTSTART;TZID=UTC:20190126T123000
DTEND;TZID=UTC:20190126T150000
DTSTAMP:20260423T183152
CREATED:20190115T183016Z
LAST-MODIFIED:20190115T183016Z
UID:308-1548505800-1548514800@rockawayrevolution.com
SUMMARY:A Talk on Transportation Justice with Dr. Kafui Attoh
DESCRIPTION:Rockaway Revolution invites you to a talk on antiracism and the Rockaway community\nJoin us for the second in a series of talks on anti-racism on the subject of transportation justice and transportation rights with Dr. Kafui Attoh!\nDr. Kafui Attoh\, Professor of Urban Studies at CUNY\, will speak about the economic impact of limited access to transportation on disadvantaged communities and the role of urban social movements in shaping mass transit policy. \nDr. Attoh is an Assistant Professor of Urban Studies\, CUNY School of Labor and Urban Studies.
URL:http://rockawayrevolution.com/event/a-talk-on-transportation-justice-with-dr-kafui-attoh/
LOCATION:First Congressional Church\, 320 Beach 94th Street\, Rockaway Beach\, NY\, 11693\, United States
ATTACH;FMTTYPE=image/jpeg:http://rockawayrevolution.com/wp-content/uploads/2019/01/Kafui-Attoh-spotlight.jpg
ORGANIZER;CN="Rockaway Revolution":MAILTO:rockawayrevolutions@gmail.com
END:VEVENT
BEGIN:VEVENT
DTSTART;TZID=UTC:20181117T110000
DTEND;TZID=UTC:20181117T130000
DTSTAMP:20260423T183152
CREATED:20181112T143046Z
LAST-MODIFIED:20181112T150115Z
UID:70-1542452400-1542459600@rockawayrevolution.com
SUMMARY:Defeating Race and Class Inequality with Tim Wise
DESCRIPTION:Rockaway Revolution invites you to a talk on class and race in America\nJoin us for a talk with anti-racist educator Tim Wise!\nChallenging the culture of cruelty: Understanding and defeating race and class inequality in America. \nTim Wise is among the most prominent anti-racist writers and educators in the United States. He has spent the past 25 years speaking to audiences in all 50 states\, on over 1000 college and high school campuses\, at hundreds of professional and academic conferences\, and to community groups across the country. He is also the host of the new podcast\, Speak Out with Tim Wise. \nAuthor of Under the Affluence: Shaming the poor\, praising the rich and jeopardizing the future of America.
URL:http://rockawayrevolution.com/event/defeating-race-and-class-inequality-with-tim-wise/
LOCATION:First Congressional Church\, 320 Beach 94th Street\, Rockaway Beach\, NY\, 11693\, United States
ATTACH;FMTTYPE=image/jpeg:http://rockawayrevolution.com/wp-content/uploads/2018/11/1200px-Tim_Wise.jpg
ORGANIZER;CN="Rockaway Revolution":MAILTO:rockawayrevolutions@gmail.com
END:VEVENT
END:VCALENDAR